BEGIN:VCALENDAR
VERSION:2.0
PRODID:-//Moulin Le Grain à Moudre - ECPv6.15.14//NONSGML v1.0//EN
CALSCALE:GREGORIAN
METHOD:PUBLISH
X-ORIGINAL-URL:https://www.grangedesroues.fr
X-WR-CALDESC:Évènements pour Moulin Le Grain à Moudre
REFRESH-INTERVAL;VALUE=DURATION:PT1H
X-Robots-Tag:noindex
X-PUBLISHED-TTL:PT1H
BEGIN:VTIMEZONE
TZID:Europe/Paris
BEGIN:DAYLIGHT
TZOFFSETFROM:+0100
TZOFFSETTO:+0200
TZNAME:CEST
DTSTART:20250330T010000
END:DAYLIGHT
BEGIN:STANDARD
TZOFFSETFROM:+0200
TZOFFSETTO:+0100
TZNAME:CET
DTSTART:20251026T010000
END:STANDARD
BEGIN:DAYLIGHT
TZOFFSETFROM:+0100
TZOFFSETTO:+0200
TZNAME:CEST
DTSTART:20260329T010000
END:DAYLIGHT
BEGIN:STANDARD
TZOFFSETFROM:+0200
TZOFFSETTO:+0100
TZNAME:CET
DTSTART:20261025T010000
END:STANDARD
BEGIN:DAYLIGHT
TZOFFSETFROM:+0100
TZOFFSETTO:+0200
TZNAME:CEST
DTSTART:20270328T010000
END:DAYLIGHT
BEGIN:STANDARD
TZOFFSETFROM:+0200
TZOFFSETTO:+0100
TZNAME:CET
DTSTART:20271031T010000
END:STANDARD
END:VTIMEZONE
BEGIN:VEVENT
DTSTART;TZID=Europe/Paris:20260123T180000
DTEND;TZID=Europe/Paris:20260123T220000
DTSTAMP:20260421T103223
CREATED:20260107T165300Z
LAST-MODIFIED:20260107T165404Z
UID:3743-1769191200-1769205600@www.grangedesroues.fr
SUMMARY:Apéro-ciné Bergers
DESCRIPTION:📽️ Vendredi 23 janvier à 19h – Projection du film Bergers (2025) 🎞️La Grange des Roues vous accueille au RDC du tiers-lieu pour la projection de Bergers (2025)\, précédée à 18h d’un apéritif partagé. 🤗La réalisatrice Sophie Deraspe nous offre un bel angle de vue tant sur le métier d’éleveur que sur les magnifiques paysages de nos régions à travers la route de la transhumance. ⛰️🐑Vous êtes les bienvenu.e.s\, sans inscription\, dès 18h pour un apéro partagé\, apportez vos grignotages et boissons à partager (ou trouvez les meilleurs produits du coin à l’épicerie de la Grange des Roues!). 🥜 🍞 Si la fatigue ne vous retient pas\, nous échangeons des opinions et réflexions à la suite du film\, toujours en bienveillance ! 🫶Afin de participer aux frais des droits de diffusion\, nous vous demandons une participation financière libre à partir de 5€. Nous vous remercions de votre compréhension et espérons que ce format pourra correspondre au plus grand nombre d’entre vous ! 👨‍👩‍👧‍👦Au plaisir de vous rencontrer ! 🌷 \n\n\n\n\n\n\n\nAssociation La Grange des Roues07 66 11 24 75bonjour@grangedesroues.fr
URL:https://www.grangedesroues.fr/event/apero-cine-bergers/
LOCATION:Tiers-lieu La Grange des Roues\, 522 chemin de la Grange des Roues\, Sorgues\, 84700\, France
CATEGORIES:Projection
ATTACH;FMTTYPE=image/png:https://www.grangedesroues.fr/wp-content/uploads/2026/01/Projection-Berger-2301.png
END:VEVENT
END:VCALENDAR