BEGIN:VCALENDAR
VERSION:2.0
PRODID:-//Moulin Le Grain à Moudre - ECPv6.15.14//NONSGML v1.0//EN
CALSCALE:GREGORIAN
METHOD:PUBLISH
X-WR-CALNAME:Moulin Le Grain à Moudre
X-ORIGINAL-URL:https://www.grangedesroues.fr
X-WR-CALDESC:Évènements pour Moulin Le Grain à Moudre
REFRESH-INTERVAL;VALUE=DURATION:PT1H
X-Robots-Tag:noindex
X-PUBLISHED-TTL:PT1H
BEGIN:VTIMEZONE
TZID:Europe/Paris
BEGIN:DAYLIGHT
TZOFFSETFROM:+0100
TZOFFSETTO:+0200
TZNAME:CEST
DTSTART:20240331T010000
END:DAYLIGHT
BEGIN:STANDARD
TZOFFSETFROM:+0200
TZOFFSETTO:+0100
TZNAME:CET
DTSTART:20241027T010000
END:STANDARD
BEGIN:DAYLIGHT
TZOFFSETFROM:+0100
TZOFFSETTO:+0200
TZNAME:CEST
DTSTART:20250330T010000
END:DAYLIGHT
BEGIN:STANDARD
TZOFFSETFROM:+0200
TZOFFSETTO:+0100
TZNAME:CET
DTSTART:20251026T010000
END:STANDARD
BEGIN:DAYLIGHT
TZOFFSETFROM:+0100
TZOFFSETTO:+0200
TZNAME:CEST
DTSTART:20260329T010000
END:DAYLIGHT
BEGIN:STANDARD
TZOFFSETFROM:+0200
TZOFFSETTO:+0100
TZNAME:CET
DTSTART:20261025T010000
END:STANDARD
END:VTIMEZONE
BEGIN:VEVENT
DTSTART;TZID=Europe/Paris:20250620T170000
DTEND;TZID=Europe/Paris:20250620T235900
DTSTAMP:20260422T122932
CREATED:20250606T125048Z
LAST-MODIFIED:20250606T125153Z
UID:3295-1750438800-1750463940@www.grangedesroues.fr
SUMMARY:Semailles en fête ! 🌿🎊🎶
DESCRIPTION:Retrouvez-nous vendredi 20 juin à partir de 17h aux Jardins de Semailles pour un grand temps festif et de partage chaleureux ! 🌼 \n\n\n\n\n\n\n\n\n\n\n\n\n\n\n\n\n\nL’association Semailles vous a concocté un super programme bien rempli ! 🤩🎶 \n\n\n\nOn vous y attend nombreux et nombreuses ! 🥳
URL:https://www.grangedesroues.fr/event/semailles-en-fete-%f0%9f%8c%bf%f0%9f%8e%8a%f0%9f%8e%b6/
LOCATION:Jardins de Semailles\, 2370 avenue de la Croix Roug\, Avignon\, 84000\, France
ATTACH;FMTTYPE=image/jpeg:https://www.grangedesroues.fr/wp-content/uploads/2025/06/flyer_Semailles-en-Fete-2025_page-0001.jpg
ORGANIZER;CN="Association Semailles":MAILTO:contact@semailles.asso.fr
END:VEVENT
END:VCALENDAR