BEGIN:VCALENDAR
VERSION:2.0
PRODID:-//Moulin Le Grain à Moudre - ECPv6.15.14//NONSGML v1.0//EN
CALSCALE:GREGORIAN
METHOD:PUBLISH
X-ORIGINAL-URL:https://www.grangedesroues.fr
X-WR-CALDESC:Évènements pour Moulin Le Grain à Moudre
REFRESH-INTERVAL;VALUE=DURATION:PT1H
X-Robots-Tag:noindex
X-PUBLISHED-TTL:PT1H
BEGIN:VTIMEZONE
TZID:Europe/Paris
BEGIN:DAYLIGHT
TZOFFSETFROM:+0100
TZOFFSETTO:+0200
TZNAME:CEST
DTSTART:20240331T010000
END:DAYLIGHT
BEGIN:STANDARD
TZOFFSETFROM:+0200
TZOFFSETTO:+0100
TZNAME:CET
DTSTART:20241027T010000
END:STANDARD
BEGIN:DAYLIGHT
TZOFFSETFROM:+0100
TZOFFSETTO:+0200
TZNAME:CEST
DTSTART:20250330T010000
END:DAYLIGHT
BEGIN:STANDARD
TZOFFSETFROM:+0200
TZOFFSETTO:+0100
TZNAME:CET
DTSTART:20251026T010000
END:STANDARD
BEGIN:DAYLIGHT
TZOFFSETFROM:+0100
TZOFFSETTO:+0200
TZNAME:CEST
DTSTART:20260329T010000
END:DAYLIGHT
BEGIN:STANDARD
TZOFFSETFROM:+0200
TZOFFSETTO:+0100
TZNAME:CET
DTSTART:20261025T010000
END:STANDARD
END:VTIMEZONE
BEGIN:VEVENT
DTSTART;TZID=Europe/Paris:20250523T180000
DTEND;TZID=Europe/Paris:20250523T210000
DTSTAMP:20260421T135653
CREATED:20250505T141154Z
LAST-MODIFIED:20250506T153934Z
UID:3125-1748023200-1748034000@www.grangedesroues.fr
SUMMARY:🎊 Fête des voisins\, voisines ! 🎊
DESCRIPTION:Chers voisins\, chères voisines !  \n\n\n\nVous êtes toutes et tous les bienvenu.e.s au grand repas partagé organisé à la Grange des Roues à l’occasion de la Fête des voisins 2025\, le vendredi 23 mai prochain dès 18h 🎉 \n\n\n\nSentez-vous libre d’apporter de quoi grignoter\, boire lors de ce beau temps convivial ! 🤗 \n\n\n\nNous vous attendons nombreux et nombreuses pour célébrer ensemble le lien social ! ✨ \n\n\n\n🏵️ À très vite à la Grange ! 🏵️
URL:https://www.grangedesroues.fr/event/fete-des-voisins-voisines/
ATTACH;FMTTYPE=image/png:https://www.grangedesroues.fr/wp-content/uploads/2025/05/Fete-des-voisins-2305.png
ORGANIZER;CN="Association La Grange des Roues":MAILTO:bonjour@grangedesroues.fr
END:VEVENT
END:VCALENDAR